BEGIN:VCALENDAR
VERSION:2.0
PRODID:-//www.rmdc.net//NONSGML kigkonsult.se iCalcreator 2.30.10//
CALSCALE:GREGORIAN
METHOD:PUBLISH
UID:56e8492e-6cf5-413a-a148-ac98ce638767
X-WR-CALDESC:
X-WR-RELCALID:461753b425c7e858a4d48d428b1b9e41
X-WR-TIMEZONE:America/Denver
BEGIN:VTIMEZONE
TZID:America/Denver
BEGIN:STANDARD
TZNAME:MST
DTSTART:20291104T020000
TZOFFSETFROM:-0600
TZOFFSETTO:-0700
RDATE:20301103T020000
RDATE:20311102T020000
END:STANDARD
BEGIN:DAYLIGHT
TZNAME:MDT
DTSTART:20300310T020000
TZOFFSETFROM:-0700
TZOFFSETTO:-0600
RDATE:20310309T020000
END:DAYLIGHT
END:VTIMEZONE
BEGIN:VEVENT
UID:cd59644b-c06b-44a4-bad3-8baa0e2f3dd2
DTSTAMP:20260423T110547Z
DESCRIPTION:
DTSTART;TZID=America/Denver:20300616T130000
DTEND;TZID=America/Denver:20300616T160000
LOCATION:
SUMMARY:Pinochle
END:VEVENT
END:VCALENDAR
