BEGIN:VCALENDAR
VERSION:2.0
PRODID:-//www.rmdc.net//NONSGML kigkonsult.se iCalcreator 2.30.10//
CALSCALE:GREGORIAN
METHOD:PUBLISH
UID:585de875-a028-4304-8963-1c7440c40ca8
X-WR-CALDESC:Meet with Ann\, a representative from Montana Generational Jus
 tice\, for a free consultation on estate planning. \n \nAnn can be found i
 n the Neighborhood Center Dining Room on the second Wednesday of each mont
 h from 11:30 am to 12:30 pm. \n \n
X-WR-RELCALID:7212c4516263fa8a859afb015411f8f3
X-WR-TIMEZONE:America/Denver
BEGIN:VTIMEZONE
TZID:America/Denver
BEGIN:STANDARD
TZNAME:MST
DTSTART:20291104T020000
TZOFFSETFROM:-0600
TZOFFSETTO:-0700
RDATE:20301103T020000
RDATE:20311102T020000
END:STANDARD
BEGIN:DAYLIGHT
TZNAME:MDT
DTSTART:20300310T020000
TZOFFSETFROM:-0700
TZOFFSETTO:-0600
RDATE:20310309T020000
END:DAYLIGHT
END:VTIMEZONE
BEGIN:VEVENT
UID:5df56e36-41dd-4f8b-9263-1001242eda74
DTSTAMP:20260423T112120Z
DESCRIPTION:Meet with Ann\, a representative from Montana Generational Just
 ice\, for a free consultation on estate planning. \n \nAnn can be found in
  the Neighborhood Center Dining Room on the second Wednesday of each month
  from 11:30 am to 12:30 pm. \n \n
DTSTART;TZID=America/Denver:20300626T110000
DTEND;TZID=America/Denver:20300626T123000
LOCATION:200 South Cruse\, Helena\, AL 59601 US
SUMMARY:Estate Planning with Ann
END:VEVENT
END:VCALENDAR
