BEGIN:VCALENDAR
VERSION:2.0
PRODID:-//www.rmdc.net//NONSGML kigkonsult.se iCalcreator 2.30.10//
CALSCALE:GREGORIAN
METHOD:PUBLISH
UID:b5cb4b1f-d708-4095-98b2-938be57f22a4
X-WR-CALDESC:
X-WR-RELCALID:cb184de1b8276f541b35f9d0031f2072
X-WR-TIMEZONE:America/Denver
BEGIN:VTIMEZONE
TZID:America/Denver
BEGIN:STANDARD
TZNAME:MST
DTSTART:20291104T020000
TZOFFSETFROM:-0600
TZOFFSETTO:-0700
RDATE:20301103T020000
RDATE:20311102T020000
END:STANDARD
BEGIN:DAYLIGHT
TZNAME:MDT
DTSTART:20300310T020000
TZOFFSETFROM:-0700
TZOFFSETTO:-0600
RDATE:20310309T020000
END:DAYLIGHT
END:VTIMEZONE
BEGIN:VEVENT
UID:b4535df5-a314-4e43-b84b-807cac9f174a
DTSTAMP:20260423T111130Z
DESCRIPTION:
DTSTART;TZID=America/Denver:20300630T130000
DTEND;TZID=America/Denver:20300630T160000
LOCATION:
SUMMARY:Pinochle
END:VEVENT
END:VCALENDAR
