BEGIN:VCALENDAR
VERSION:2.0
PRODID:-//www.rmdc.net//NONSGML kigkonsult.se iCalcreator 2.30.10//
CALSCALE:GREGORIAN
METHOD:PUBLISH
UID:c3956b13-7b00-4ca8-9a3f-24dc0b8f9932
X-WR-CALDESC:
X-WR-RELCALID:1ac5f474da681b174e6cb9baed655010
X-WR-TIMEZONE:America/Denver
BEGIN:VTIMEZONE
TZID:America/Denver
BEGIN:STANDARD
TZNAME:MST
DTSTART:20291104T020000
TZOFFSETFROM:-0600
TZOFFSETTO:-0700
RDATE:20301103T020000
RDATE:20311102T020000
END:STANDARD
BEGIN:DAYLIGHT
TZNAME:MDT
DTSTART:20300310T020000
TZOFFSETFROM:-0700
TZOFFSETTO:-0600
RDATE:20310309T020000
END:DAYLIGHT
END:VTIMEZONE
BEGIN:VEVENT
UID:28187367-8797-4e17-82f9-1a804a9466c2
DTSTAMP:20260423T120558Z
DESCRIPTION:
DTSTART;TZID=America/Denver:20300710T110000
DTEND;TZID=America/Denver:20300710T120000
LOCATION:200 South Cruse\, Helena\, MT 59601 US
SUMMARY:Tech Time With Mary
END:VEVENT
END:VCALENDAR
