BEGIN:VCALENDAR
VERSION:2.0
PRODID:-//www.rmdc.net//NONSGML kigkonsult.se iCalcreator 2.30.10//
CALSCALE:GREGORIAN
METHOD:PUBLISH
UID:8d6e88d0-081b-46df-9ad9-4797973ce30f
X-WR-CALDESC:
X-WR-RELCALID:527934f1044458159472c86fadb83b16
X-WR-TIMEZONE:America/Denver
BEGIN:VTIMEZONE
TZID:America/Denver
BEGIN:STANDARD
TZNAME:MST
DTSTART:20291104T020000
TZOFFSETFROM:-0600
TZOFFSETTO:-0700
RDATE:20301103T020000
RDATE:20311102T020000
END:STANDARD
BEGIN:DAYLIGHT
TZNAME:MDT
DTSTART:20300310T020000
TZOFFSETFROM:-0700
TZOFFSETTO:-0600
RDATE:20310309T020000
END:DAYLIGHT
END:VTIMEZONE
BEGIN:VEVENT
UID:11290aca-a851-4859-a95a-e98c0144f000
DTSTAMP:20260423T120558Z
DESCRIPTION:
DTSTART;TZID=America/Denver:20300730T130000
DTEND;TZID=America/Denver:20300730T160000
LOCATION:
SUMMARY:Pinochle
END:VEVENT
END:VCALENDAR
