BEGIN:VCALENDAR
VERSION:2.0
PRODID:-//www.rmdc.net//NONSGML kigkonsult.se iCalcreator 2.30.10//
CALSCALE:GREGORIAN
METHOD:PUBLISH
UID:f473a06f-fd63-4c65-a3f6-ec9034c38689
X-WR-CALDESC:
X-WR-RELCALID:c16c5fe0e0e975341fc3995e32332543
X-WR-TIMEZONE:America/Denver
BEGIN:VTIMEZONE
TZID:America/Denver
BEGIN:STANDARD
TZNAME:MST
DTSTART:20291104T020000
TZOFFSETFROM:-0600
TZOFFSETTO:-0700
RDATE:20301103T020000
RDATE:20311102T020000
END:STANDARD
BEGIN:DAYLIGHT
TZNAME:MDT
DTSTART:20300310T020000
TZOFFSETFROM:-0700
TZOFFSETTO:-0600
RDATE:20310309T020000
END:DAYLIGHT
END:VTIMEZONE
BEGIN:VEVENT
UID:ca76cd31-3139-447a-8bec-611d3171ed9e
DTSTAMP:20260423T132951Z
DESCRIPTION:
DTSTART;TZID=America/Denver:20300806T130000
DTEND;TZID=America/Denver:20300806T160000
LOCATION:
SUMMARY:Pinochle
END:VEVENT
END:VCALENDAR
