BEGIN:VCALENDAR
VERSION:2.0
PRODID:-//www.rmdc.net//NONSGML kigkonsult.se iCalcreator 2.30.10//
CALSCALE:GREGORIAN
METHOD:PUBLISH
UID:a2fc883e-590f-4f61-aed3-7600d7701016
X-WR-CALDESC:
X-WR-RELCALID:7cb50db815eeac401f9553e5aebb237a
X-WR-TIMEZONE:America/Denver
BEGIN:VTIMEZONE
TZID:America/Denver
BEGIN:STANDARD
TZNAME:MST
DTSTART:20291104T020000
TZOFFSETFROM:-0600
TZOFFSETTO:-0700
RDATE:20301103T020000
RDATE:20311102T020000
END:STANDARD
BEGIN:DAYLIGHT
TZNAME:MDT
DTSTART:20300310T020000
TZOFFSETFROM:-0700
TZOFFSETTO:-0600
RDATE:20310309T020000
END:DAYLIGHT
END:VTIMEZONE
BEGIN:VEVENT
UID:eca07274-052d-4dd6-a1a7-95721ea577d7
DTSTAMP:20260423T133105Z
DESCRIPTION:
DTSTART;TZID=America/Denver:20300812T103000
DTEND;TZID=America/Denver:20300812T111500
LOCATION:Neighborhood Center Card Room
SUMMARY:Jennie's Arthritis Foundation Exercise Class
END:VEVENT
END:VCALENDAR
