BEGIN:VCALENDAR
VERSION:2.0
PRODID:-//www.rmdc.net//NONSGML kigkonsult.se iCalcreator 2.30.10//
CALSCALE:GREGORIAN
METHOD:PUBLISH
UID:671a8b42-f122-4391-a85c-928ae3f150ce
X-WR-CALDESC:
X-WR-RELCALID:bd60318bd5454a370b72034fca9ab245
X-WR-TIMEZONE:America/Denver
BEGIN:VTIMEZONE
TZID:America/Denver
BEGIN:STANDARD
TZNAME:MST
DTSTART:20291104T020000
TZOFFSETFROM:-0600
TZOFFSETTO:-0700
RDATE:20301103T020000
RDATE:20311102T020000
END:STANDARD
BEGIN:DAYLIGHT
TZNAME:MDT
DTSTART:20300310T020000
TZOFFSETFROM:-0700
TZOFFSETTO:-0600
RDATE:20310309T020000
END:DAYLIGHT
END:VTIMEZONE
BEGIN:VEVENT
UID:ffa4d728-28ea-435d-bb30-86487908f511
DTSTAMP:20260423T133005Z
DESCRIPTION:
DTSTART;TZID=America/Denver:20300813T130000
DTEND;TZID=America/Denver:20300813T160000
LOCATION:
SUMMARY:Pinochle
END:VEVENT
END:VCALENDAR
