BEGIN:VCALENDAR
VERSION:2.0
PRODID:-//www.rmdc.net//NONSGML kigkonsult.se iCalcreator 2.30.10//
CALSCALE:GREGORIAN
METHOD:PUBLISH
UID:e280222c-4f3a-4310-b612-8610cf7fe87b
X-WR-CALDESC:
X-WR-RELCALID:02db0bebe74c78fddec5b219d8297676
X-WR-TIMEZONE:America/Denver
BEGIN:VTIMEZONE
TZID:America/Denver
BEGIN:STANDARD
TZNAME:MST
DTSTART:20291104T020000
TZOFFSETFROM:-0600
TZOFFSETTO:-0700
RDATE:20301103T020000
RDATE:20311102T020000
END:STANDARD
BEGIN:DAYLIGHT
TZNAME:MDT
DTSTART:20300310T020000
TZOFFSETFROM:-0700
TZOFFSETTO:-0600
RDATE:20310309T020000
END:DAYLIGHT
END:VTIMEZONE
BEGIN:VEVENT
UID:e6bc92da-fcb2-4943-9f35-d30e2fdf4ef1
DTSTAMP:20260423T133125Z
DESCRIPTION:
DTSTART;TZID=America/Denver:20300814T120000
DTEND;TZID=America/Denver:20300814T133000
LOCATION:Parlor
SUMMARY:Hand and Foot Card Game
END:VEVENT
END:VCALENDAR
