BEGIN:VCALENDAR
VERSION:2.0
PRODID:-//www.rmdc.net//NONSGML kigkonsult.se iCalcreator 2.30.10//
CALSCALE:GREGORIAN
METHOD:PUBLISH
UID:27858fa5-7641-4977-8f7a-1bcb349ea6ef
X-WR-CALDESC:
X-WR-RELCALID:c6ed618553be75210dc00eb77c8e86c1
X-WR-TIMEZONE:America/Denver
BEGIN:VTIMEZONE
TZID:America/Denver
BEGIN:STANDARD
TZNAME:MST
DTSTART:20291104T020000
TZOFFSETFROM:-0600
TZOFFSETTO:-0700
RDATE:20301103T020000
RDATE:20311102T020000
END:STANDARD
BEGIN:DAYLIGHT
TZNAME:MDT
DTSTART:20300310T020000
TZOFFSETFROM:-0700
TZOFFSETTO:-0600
RDATE:20310309T020000
END:DAYLIGHT
END:VTIMEZONE
BEGIN:VEVENT
UID:cb2a6476-d8b8-471d-81ab-7485eb638e48
DTSTAMP:20260423T145125Z
DESCRIPTION:
DTSTART;TZID=America/Denver:20300910T130000
DTEND;TZID=America/Denver:20300910T160000
LOCATION:
SUMMARY:Pinochle
END:VEVENT
END:VCALENDAR
