BEGIN:VCALENDAR
VERSION:2.0
PRODID:-//www.rmdc.net//NONSGML kigkonsult.se iCalcreator 2.30.10//
CALSCALE:GREGORIAN
METHOD:PUBLISH
UID:70962136-e8e6-44ed-b91e-863c66f80c7e
X-WR-CALDESC:
X-WR-RELCALID:558c47e16d70759f640439afbd034599
X-WR-TIMEZONE:America/Denver
BEGIN:VTIMEZONE
TZID:America/Denver
BEGIN:STANDARD
TZNAME:MST
DTSTART:20291104T020000
TZOFFSETFROM:-0600
TZOFFSETTO:-0700
RDATE:20301103T020000
RDATE:20311102T020000
END:STANDARD
BEGIN:DAYLIGHT
TZNAME:MDT
DTSTART:20300310T020000
TZOFFSETFROM:-0700
TZOFFSETTO:-0600
RDATE:20310309T020000
RDATE:20320314T020000
END:DAYLIGHT
END:VTIMEZONE
BEGIN:VEVENT
UID:a4ededed-9a17-4d13-bd6c-454801c2ebd5
DTSTAMP:20260423T145100Z
DESCRIPTION:
DTSTART;TZID=America/Denver:20300915T130000
DTEND;TZID=America/Denver:20300915T160000
LOCATION:
SUMMARY:Pinochle
END:VEVENT
END:VCALENDAR
