BEGIN:VCALENDAR
VERSION:2.0
PRODID:-//www.rmdc.net//NONSGML kigkonsult.se iCalcreator 2.30.10//
CALSCALE:GREGORIAN
METHOD:PUBLISH
UID:57303a1c-662f-4a26-b74c-6499592b169f
X-WR-CALDESC:Join us for a gentle exercise class!
X-WR-RELCALID:b6898a07375faa9a12bf73efa66b83f8
X-WR-TIMEZONE:America/Denver
BEGIN:VTIMEZONE
TZID:America/Denver
BEGIN:STANDARD
TZNAME:MST
DTSTART:20291104T020000
TZOFFSETFROM:-0600
TZOFFSETTO:-0700
RDATE:20301103T020000
RDATE:20311102T020000
END:STANDARD
BEGIN:DAYLIGHT
TZNAME:MDT
DTSTART:20300310T020000
TZOFFSETFROM:-0700
TZOFFSETTO:-0600
RDATE:20310309T020000
RDATE:20320314T020000
END:DAYLIGHT
END:VTIMEZONE
BEGIN:VEVENT
UID:454a16c6-50d6-48fa-bb16-0140a03a1219
DTSTAMP:20260423T145048Z
DESCRIPTION:Join us for a gentle exercise class!
DTSTART;TZID=America/Denver:20300925T103000
DTEND;TZID=America/Denver:20300925T110000
LOCATION:200 South Cruse\, Helena\, MT 59601 US
SUMMARY:Chi Gong
END:VEVENT
END:VCALENDAR
