BEGIN:VCALENDAR
VERSION:2.0
PRODID:-//www.rmdc.net//NONSGML kigkonsult.se iCalcreator 2.30.10//
CALSCALE:GREGORIAN
METHOD:PUBLISH
UID:ca7e2ceb-588e-41f1-b367-e18f309b8797
X-WR-CALDESC:
X-WR-RELCALID:0c2014b36c004ad8f724b3bb00e57490
X-WR-TIMEZONE:America/Denver
BEGIN:VTIMEZONE
TZID:America/Denver
BEGIN:STANDARD
TZNAME:MST
DTSTART:20291104T020000
TZOFFSETFROM:-0600
TZOFFSETTO:-0700
RDATE:20301103T020000
RDATE:20311102T020000
END:STANDARD
BEGIN:DAYLIGHT
TZNAME:MDT
DTSTART:20300310T020000
TZOFFSETFROM:-0700
TZOFFSETTO:-0600
RDATE:20310309T020000
RDATE:20320314T020000
END:DAYLIGHT
END:VTIMEZONE
BEGIN:VEVENT
UID:019f08c0-065a-4ecc-9911-10a29d5773cd
DTSTAMP:20260423T145049Z
DESCRIPTION:
DTSTART;TZID=America/Denver:20300929T130000
DTEND;TZID=America/Denver:20300929T160000
LOCATION:
SUMMARY:Pinochle
END:VEVENT
END:VCALENDAR
