BEGIN:VCALENDAR
VERSION:2.0
PRODID:-//www.rmdc.net//NONSGML kigkonsult.se iCalcreator 2.30.10//
CALSCALE:GREGORIAN
METHOD:PUBLISH
UID:aa7224c6-feb0-42d8-9892-66d19a93904f
X-WR-CALDESC:Join us for a gentle exercise class!
X-WR-RELCALID:8f43458ee345e4bf6bcd70a8d2347f28
X-WR-TIMEZONE:America/Denver
BEGIN:VTIMEZONE
TZID:America/Denver
BEGIN:STANDARD
TZNAME:MST
DTSTART:20291104T020000
TZOFFSETFROM:-0600
TZOFFSETTO:-0700
RDATE:20301103T020000
RDATE:20311102T020000
END:STANDARD
BEGIN:DAYLIGHT
TZNAME:MDT
DTSTART:20300310T020000
TZOFFSETFROM:-0700
TZOFFSETTO:-0600
RDATE:20310309T020000
RDATE:20320314T020000
END:DAYLIGHT
END:VTIMEZONE
BEGIN:VEVENT
UID:2e4d8a57-dc80-4f58-b713-fdeb70d9edb8
DTSTAMP:20260423T162656Z
DESCRIPTION:Join us for a gentle exercise class!
DTSTART;TZID=America/Denver:20301016T103000
DTEND;TZID=America/Denver:20301016T110000
LOCATION:200 South Cruse\, Helena\, MT 59601 US
SUMMARY:Chi Gong
END:VEVENT
END:VCALENDAR
