BEGIN:VCALENDAR
VERSION:2.0
PRODID:-//www.rmdc.net//NONSGML kigkonsult.se iCalcreator 2.30.10//
CALSCALE:GREGORIAN
METHOD:PUBLISH
UID:efc8f7a1-a7a5-46c7-bbbf-2bdc2e5f4515
X-WR-CALDESC:
X-WR-RELCALID:40aab7430fe9d3cc8945094ebc8010cb
X-WR-TIMEZONE:America/Denver
BEGIN:VTIMEZONE
TZID:America/Denver
BEGIN:STANDARD
TZNAME:MST
DTSTART:20291104T020000
TZOFFSETFROM:-0600
TZOFFSETTO:-0700
RDATE:20301103T020000
RDATE:20311102T020000
END:STANDARD
BEGIN:DAYLIGHT
TZNAME:MDT
DTSTART:20300310T020000
TZOFFSETFROM:-0700
TZOFFSETTO:-0600
RDATE:20310309T020000
RDATE:20320314T020000
END:DAYLIGHT
END:VTIMEZONE
BEGIN:VEVENT
UID:f9e1647c-fd33-4362-a32e-b17a7b23b10c
DTSTAMP:20260423T162704Z
DESCRIPTION:
DTSTART;TZID=America/Denver:20301020T130000
DTEND;TZID=America/Denver:20301020T160000
LOCATION:
SUMMARY:Pinochle
END:VEVENT
END:VCALENDAR
