BEGIN:VCALENDAR
VERSION:2.0
PRODID:-//www.rmdc.net//NONSGML kigkonsult.se iCalcreator 2.30.10//
CALSCALE:GREGORIAN
METHOD:PUBLISH
UID:e26d159d-868a-4990-9e66-1fdbb61574d0
X-WR-CALDESC:
X-WR-RELCALID:4d4245e7574b72dd721135c83bcffde0
X-WR-TIMEZONE:America/Denver
BEGIN:VTIMEZONE
TZID:America/Denver
BEGIN:STANDARD
TZNAME:MST
DTSTART:20291104T020000
TZOFFSETFROM:-0600
TZOFFSETTO:-0700
RDATE:20301103T020000
RDATE:20311102T020000
END:STANDARD
BEGIN:DAYLIGHT
TZNAME:MDT
DTSTART:20300310T020000
TZOFFSETFROM:-0700
TZOFFSETTO:-0600
RDATE:20310309T020000
RDATE:20320314T020000
END:DAYLIGHT
END:VTIMEZONE
BEGIN:VEVENT
UID:ebf08ef2-644f-4753-be89-ddc9ae820143
DTSTAMP:20260423T162738Z
DESCRIPTION:
DTSTART;TZID=America/Denver:20301022T130000
DTEND;TZID=America/Denver:20301022T160000
LOCATION:
SUMMARY:Pinochle
END:VEVENT
END:VCALENDAR
