BEGIN:VCALENDAR
VERSION:2.0
PRODID:-//www.rmdc.net//NONSGML kigkonsult.se iCalcreator 2.30.10//
CALSCALE:GREGORIAN
METHOD:PUBLISH
UID:62705705-bdf7-4ef3-8e74-0022fb270942
X-WR-CALDESC:
X-WR-RELCALID:f6148674767f11ec4b4720988e32a77f
X-WR-TIMEZONE:America/Denver
BEGIN:VTIMEZONE
TZID:America/Denver
BEGIN:STANDARD
TZNAME:MST
DTSTART:20291104T020000
TZOFFSETFROM:-0600
TZOFFSETTO:-0700
RDATE:20301103T020000
RDATE:20311102T020000
END:STANDARD
BEGIN:DAYLIGHT
TZNAME:MDT
DTSTART:20300310T020000
TZOFFSETFROM:-0700
TZOFFSETTO:-0600
RDATE:20310309T020000
RDATE:20320314T020000
END:DAYLIGHT
END:VTIMEZONE
BEGIN:VEVENT
UID:dae7789e-28a5-4b17-9796-6e35a09a037b
DTSTAMP:20260423T162825Z
DESCRIPTION:
DTSTART;TZID=America/Denver:20301029T090000
DTEND;TZID=America/Denver:20301029T120000
LOCATION:Neighborhood Center Card Room
SUMMARY:Crafty Quilters
END:VEVENT
END:VCALENDAR
