BEGIN:VCALENDAR
VERSION:2.0
PRODID:-//www.rmdc.net//NONSGML kigkonsult.se iCalcreator 2.30.10//
CALSCALE:GREGORIAN
METHOD:PUBLISH
UID:5e33837b-2465-4894-8b97-1e79f792f560
X-WR-CALDESC:
X-WR-RELCALID:2c0a685703f5a4def0e257a63409e9b4
X-WR-TIMEZONE:America/Denver
BEGIN:VTIMEZONE
TZID:America/Denver
BEGIN:STANDARD
TZNAME:MST
DTSTART:20291104T020000
TZOFFSETFROM:-0600
TZOFFSETTO:-0700
RDATE:20301103T020000
RDATE:20311102T020000
END:STANDARD
BEGIN:DAYLIGHT
TZNAME:MDT
DTSTART:20300310T020000
TZOFFSETFROM:-0700
TZOFFSETTO:-0600
RDATE:20310309T020000
RDATE:20320314T020000
END:DAYLIGHT
END:VTIMEZONE
BEGIN:VEVENT
UID:e83ec991-9048-44b4-a604-edbaee62b3e9
DTSTAMP:20260423T162537Z
DESCRIPTION:
DTSTART;TZID=America/Denver:20301030T130000
DTEND;TZID=America/Denver:20301030T150000
LOCATION:Dining Room
SUMMARY:Bingo
END:VEVENT
END:VCALENDAR
