BEGIN:VCALENDAR
VERSION:2.0
PRODID:-//www.rmdc.net//NONSGML kigkonsult.se iCalcreator 2.30.10//
CALSCALE:GREGORIAN
METHOD:PUBLISH
UID:5c59ebe5-8b76-49ad-b169-3dd013a38bc4
X-WR-CALDESC:
X-WR-RELCALID:2f50d01b2f4e5d7e3e1c3782d6e48b5c
X-WR-TIMEZONE:America/Denver
BEGIN:VTIMEZONE
TZID:America/Denver
BEGIN:STANDARD
TZNAME:MST
DTSTART:20291104T020000
TZOFFSETFROM:-0600
TZOFFSETTO:-0700
RDATE:20301103T020000
RDATE:20311102T020000
END:STANDARD
BEGIN:DAYLIGHT
TZNAME:MDT
DTSTART:20300310T020000
TZOFFSETFROM:-0700
TZOFFSETTO:-0600
RDATE:20310309T020000
RDATE:20320314T020000
END:DAYLIGHT
END:VTIMEZONE
BEGIN:VEVENT
UID:182f5e7b-05b8-46bb-94b2-d41f7dc6add3
DTSTAMP:20260423T180053Z
DESCRIPTION:
DTSTART;TZID=America/Denver:20301101T103000
DTEND;TZID=America/Denver:20301101T111500
LOCATION:Neighborhood Center Card Room
SUMMARY:Jennie's Arthritis Foundation Exercise Class
END:VEVENT
END:VCALENDAR
