BEGIN:VCALENDAR
VERSION:2.0
PRODID:-//www.rmdc.net//NONSGML kigkonsult.se iCalcreator 2.30.10//
CALSCALE:GREGORIAN
METHOD:PUBLISH
UID:4f563ecd-265c-4c1d-98f0-7672f68a6843
X-WR-CALDESC:Join us for a gentle exercise class!
X-WR-RELCALID:c0fe98dfef80b45d49d83545f81166ce
X-WR-TIMEZONE:America/Denver
BEGIN:VTIMEZONE
TZID:America/Denver
BEGIN:STANDARD
TZNAME:MST
DTSTART:20301103T020000
TZOFFSETFROM:-0600
TZOFFSETTO:-0700
RDATE:20311102T020000
END:STANDARD
BEGIN:DAYLIGHT
TZNAME:MDT
DTSTART:20300310T020000
TZOFFSETFROM:-0700
TZOFFSETTO:-0600
RDATE:20310309T020000
RDATE:20320314T020000
END:DAYLIGHT
END:VTIMEZONE
BEGIN:VEVENT
UID:58a69faf-1fa2-413f-94fe-dd818757f478
DTSTAMP:20260423T175925Z
DESCRIPTION:Join us for a gentle exercise class!
DTSTART;TZID=America/Denver:20301113T103000
DTEND;TZID=America/Denver:20301113T110000
LOCATION:200 South Cruse\, Helena\, MT 59601 US
SUMMARY:Chi Gong
END:VEVENT
END:VCALENDAR
