BEGIN:VCALENDAR
VERSION:2.0
PRODID:-//www.rmdc.net//NONSGML kigkonsult.se iCalcreator 2.30.10//
CALSCALE:GREGORIAN
METHOD:PUBLISH
UID:6758ae88-bd6f-4590-a535-8f5553cc5888
X-WR-CALDESC:
X-WR-RELCALID:8abd6e1fe8a704939b526b70cd7cfdc1
X-WR-TIMEZONE:America/Denver
BEGIN:VTIMEZONE
TZID:America/Denver
BEGIN:STANDARD
TZNAME:MST
DTSTART:20301103T020000
TZOFFSETFROM:-0600
TZOFFSETTO:-0700
RDATE:20311102T020000
END:STANDARD
BEGIN:DAYLIGHT
TZNAME:MDT
DTSTART:20300310T020000
TZOFFSETFROM:-0700
TZOFFSETTO:-0600
RDATE:20310309T020000
RDATE:20320314T020000
END:DAYLIGHT
END:VTIMEZONE
BEGIN:VEVENT
UID:79a0fff7-be74-4539-9d88-3cd97e95cc5f
DTSTAMP:20260423T180123Z
DESCRIPTION:
DTSTART;TZID=America/Denver:20301120T120000
DTEND;TZID=America/Denver:20301120T133000
LOCATION:Parlor
SUMMARY:Hand and Foot Card Game
END:VEVENT
END:VCALENDAR
