BEGIN:VCALENDAR
VERSION:2.0
PRODID:-//www.rmdc.net//NONSGML kigkonsult.se iCalcreator 2.30.10//
CALSCALE:GREGORIAN
METHOD:PUBLISH
UID:891868d7-c05e-4e42-b911-d2e96a77ad6a
X-WR-CALDESC:
X-WR-RELCALID:0db3a50f0856dad8e0fee604b3a3f671
X-WR-TIMEZONE:America/Denver
BEGIN:VTIMEZONE
TZID:America/Denver
BEGIN:STANDARD
TZNAME:MST
DTSTART:20301103T020000
TZOFFSETFROM:-0600
TZOFFSETTO:-0700
RDATE:20311102T020000
END:STANDARD
BEGIN:DAYLIGHT
TZNAME:MDT
DTSTART:20300310T020000
TZOFFSETFROM:-0700
TZOFFSETTO:-0600
RDATE:20310309T020000
RDATE:20320314T020000
END:DAYLIGHT
END:VTIMEZONE
BEGIN:VEVENT
UID:6da3c7aa-ee03-4db1-aa58-ec25a95d8853
DTSTAMP:20260423T191717Z
DESCRIPTION:
DTSTART;TZID=America/Denver:20301203T130000
DTEND;TZID=America/Denver:20301203T160000
LOCATION:
SUMMARY:Pinochle
END:VEVENT
END:VCALENDAR
