BEGIN:VCALENDAR
VERSION:2.0
PRODID:-//www.rmdc.net//NONSGML kigkonsult.se iCalcreator 2.30.10//
CALSCALE:GREGORIAN
METHOD:PUBLISH
UID:715170ee-0ea1-4ff6-9c16-62e46eba86f8
X-WR-CALDESC:Join us for a gentle exercise class!
X-WR-RELCALID:959790bab57daae296f16d293616c041
X-WR-TIMEZONE:America/Denver
BEGIN:VTIMEZONE
TZID:America/Denver
BEGIN:STANDARD
TZNAME:MST
DTSTART:20301103T020000
TZOFFSETFROM:-0600
TZOFFSETTO:-0700
RDATE:20311102T020000
END:STANDARD
BEGIN:DAYLIGHT
TZNAME:MDT
DTSTART:20300310T020000
TZOFFSETFROM:-0700
TZOFFSETTO:-0600
RDATE:20310309T020000
RDATE:20320314T020000
END:DAYLIGHT
END:VTIMEZONE
BEGIN:VEVENT
UID:4e1961fd-b846-4351-a3e3-2e815bcc500c
DTSTAMP:20260423T191638Z
DESCRIPTION:Join us for a gentle exercise class!
DTSTART;TZID=America/Denver:20301211T103000
DTEND;TZID=America/Denver:20301211T110000
LOCATION:200 South Cruse\, Helena\, MT 59601 US
SUMMARY:Chi Gong
END:VEVENT
END:VCALENDAR
