BEGIN:VCALENDAR
VERSION:2.0
PRODID:-//www.rmdc.net//NONSGML kigkonsult.se iCalcreator 2.30.10//
CALSCALE:GREGORIAN
METHOD:PUBLISH
UID:70af7f8d-fdfc-42e2-8081-b335a8670c91
X-WR-CALDESC:Join us for the Arts & Craft Class on the fourth Wednesday of 
 each month\, starting on January 28\, at the Helen Senior Center Dance Flo
 or (200 S Cruse Ave). The class is FREE\, and all supplies are included!
X-WR-RELCALID:3b8df165e072fbda02dd97478acc8a4c
X-WR-TIMEZONE:America/Denver
BEGIN:VTIMEZONE
TZID:America/Denver
BEGIN:STANDARD
TZNAME:MST
DTSTART:20301103T020000
TZOFFSETFROM:-0600
TZOFFSETTO:-0700
RDATE:20311102T020000
END:STANDARD
BEGIN:DAYLIGHT
TZNAME:MDT
DTSTART:20300310T020000
TZOFFSETFROM:-0700
TZOFFSETTO:-0600
RDATE:20310309T020000
RDATE:20320314T020000
END:DAYLIGHT
END:VTIMEZONE
BEGIN:VEVENT
UID:e184826a-6117-4be3-83e6-244ad83b442e
DTSTAMP:20260423T192254Z
DESCRIPTION:Join us for the Arts & Craft Class on the fourth Wednesday of e
 ach month\, starting on January 28\, at the Helen Senior Center Dance Floo
 r (200 S Cruse Ave). The class is FREE\, and all supplies are included!
DTSTART;TZID=America/Denver:20301225T093000
DTEND;TZID=America/Denver:20301225T110000
LOCATION:200 South Cruse\, Helena\, AL 59601 US
SUMMARY:Art & Craft Classes
END:VEVENT
END:VCALENDAR
