BEGIN:VCALENDAR
VERSION:2.0
PRODID:-//www.rmdc.net//NONSGML kigkonsult.se iCalcreator 2.30.10//
CALSCALE:GREGORIAN
METHOD:PUBLISH
UID:ff590b0f-dc0f-450f-b54f-c173312eb2d2
X-WR-CALDESC:
X-WR-RELCALID:0a9d7dd9196a15a0dd864a831a07bcee
X-WR-TIMEZONE:America/Denver
BEGIN:VTIMEZONE
TZID:America/Denver
BEGIN:STANDARD
TZNAME:MST
DTSTART:20301103T020000
TZOFFSETFROM:-0600
TZOFFSETTO:-0700
RDATE:20311102T020000
END:STANDARD
BEGIN:DAYLIGHT
TZNAME:MDT
DTSTART:20300310T020000
TZOFFSETFROM:-0700
TZOFFSETTO:-0600
RDATE:20310309T020000
RDATE:20320314T020000
END:DAYLIGHT
END:VTIMEZONE
BEGIN:VEVENT
UID:ac8cbc49-62e1-4c40-b54c-f6312a97d4b4
DTSTAMP:20260423T203515Z
DESCRIPTION:
DTSTART;TZID=America/Denver:20310108T120000
DTEND;TZID=America/Denver:20310108T133000
LOCATION:Parlor
SUMMARY:Hand and Foot Card Game
END:VEVENT
END:VCALENDAR
