BEGIN:VCALENDAR
VERSION:2.0
PRODID:-//www.rmdc.net//NONSGML kigkonsult.se iCalcreator 2.30.10//
CALSCALE:GREGORIAN
METHOD:PUBLISH
UID:8fe72864-438a-4e8e-8b14-1a051d7a0c1d
X-WR-CALDESC:
X-WR-RELCALID:4ca7c42392b874eea9bfc320630fb43c
X-WR-TIMEZONE:America/Denver
BEGIN:VTIMEZONE
TZID:America/Denver
BEGIN:STANDARD
TZNAME:MST
DTSTART:20301103T020000
TZOFFSETFROM:-0600
TZOFFSETTO:-0700
RDATE:20311102T020000
END:STANDARD
BEGIN:DAYLIGHT
TZNAME:MDT
DTSTART:20300310T020000
TZOFFSETFROM:-0700
TZOFFSETTO:-0600
RDATE:20310309T020000
RDATE:20320314T020000
END:DAYLIGHT
END:VTIMEZONE
BEGIN:VEVENT
UID:d1b426cb-6e00-4a23-86b7-ddca302f7013
DTSTAMP:20260423T203446Z
DESCRIPTION:
DTSTART;TZID=America/Denver:20310119T130000
DTEND;TZID=America/Denver:20310119T160000
LOCATION:
SUMMARY:Pinochle
END:VEVENT
END:VCALENDAR
