BEGIN:VCALENDAR
VERSION:2.0
PRODID:-//www.rmdc.net//NONSGML kigkonsult.se iCalcreator 2.30.10//
CALSCALE:GREGORIAN
METHOD:PUBLISH
UID:07eca593-5df6-4858-bd77-be24f3f7b111
X-WR-CALDESC:
X-WR-RELCALID:6cc3f37704367c1d744e54c6bfa2c4d7
X-WR-TIMEZONE:America/Denver
BEGIN:VTIMEZONE
TZID:America/Denver
BEGIN:STANDARD
TZNAME:MST
DTSTART:20301103T020000
TZOFFSETFROM:-0600
TZOFFSETTO:-0700
RDATE:20311102T020000
END:STANDARD
BEGIN:DAYLIGHT
TZNAME:MDT
DTSTART:20300310T020000
TZOFFSETFROM:-0700
TZOFFSETTO:-0600
RDATE:20310309T020000
RDATE:20320314T020000
END:DAYLIGHT
END:VTIMEZONE
BEGIN:VEVENT
UID:f16af050-fc6d-42cf-9b61-9e35dda3030e
DTSTAMP:20260423T203204Z
DESCRIPTION:
DTSTART;TZID=America/Denver:20310121T130000
DTEND;TZID=America/Denver:20310121T150000
LOCATION:Rocky Neighborhood Center Dance Floor
SUMMARY:Bridge
END:VEVENT
END:VCALENDAR
