BEGIN:VCALENDAR
VERSION:2.0
PRODID:-//www.rmdc.net//NONSGML kigkonsult.se iCalcreator 2.30.10//
CALSCALE:GREGORIAN
METHOD:PUBLISH
UID:d7aaa466-efc2-46a7-b43c-196bda2636e0
X-WR-CALDESC:Join us for a gentle exercise class!
X-WR-RELCALID:dd08d4d65cd344b6e827dfbe72b8c833
X-WR-TIMEZONE:America/Denver
BEGIN:VTIMEZONE
TZID:America/Denver
BEGIN:STANDARD
TZNAME:MST
DTSTART:20301103T020000
TZOFFSETFROM:-0600
TZOFFSETTO:-0700
RDATE:20311102T020000
END:STANDARD
BEGIN:DAYLIGHT
TZNAME:MDT
DTSTART:20300310T020000
TZOFFSETFROM:-0700
TZOFFSETTO:-0600
RDATE:20310309T020000
RDATE:20320314T020000
END:DAYLIGHT
END:VTIMEZONE
BEGIN:VEVENT
UID:cb13cd21-9994-4ad9-acc9-a697224f07b1
DTSTAMP:20260423T203343Z
DESCRIPTION:Join us for a gentle exercise class!
DTSTART;TZID=America/Denver:20310122T103000
DTEND;TZID=America/Denver:20310122T110000
LOCATION:200 South Cruse\, Helena\, MT 59601 US
SUMMARY:Chi Gong
END:VEVENT
END:VCALENDAR
