BEGIN:VCALENDAR
VERSION:2.0
PRODID:-//www.rmdc.net//NONSGML kigkonsult.se iCalcreator 2.30.10//
CALSCALE:GREGORIAN
METHOD:PUBLISH
UID:3874e23b-124c-43c0-a9e4-f14fd9c58521
X-WR-CALDESC:Join us for a gentle exercise class!
X-WR-RELCALID:14488b0cf1045429c2bd380938661e72
X-WR-TIMEZONE:America/Denver
BEGIN:VTIMEZONE
TZID:America/Denver
BEGIN:STANDARD
TZNAME:MST
DTSTART:20301103T020000
TZOFFSETFROM:-0600
TZOFFSETTO:-0700
RDATE:20311102T020000
END:STANDARD
BEGIN:DAYLIGHT
TZNAME:MDT
DTSTART:20300310T020000
TZOFFSETFROM:-0700
TZOFFSETTO:-0600
RDATE:20310309T020000
RDATE:20320314T020000
END:DAYLIGHT
END:VTIMEZONE
BEGIN:VEVENT
UID:f9b27d29-1278-4d77-81c7-9001b396deae
DTSTAMP:20260423T215817Z
DESCRIPTION:Join us for a gentle exercise class!
DTSTART;TZID=America/Denver:20310205T103000
DTEND;TZID=America/Denver:20310205T110000
LOCATION:200 South Cruse\, Helena\, MT 59601 US
SUMMARY:Chi Gong
END:VEVENT
END:VCALENDAR
