BEGIN:VCALENDAR
VERSION:2.0
PRODID:-//www.rmdc.net//NONSGML kigkonsult.se iCalcreator 2.30.10//
CALSCALE:GREGORIAN
METHOD:PUBLISH
UID:252ff9cc-dab7-453e-96e1-5f421e4d7cc2
X-WR-CALDESC:
X-WR-RELCALID:79d759a9bbdf9f7e102da3f5035829b6
X-WR-TIMEZONE:America/Denver
BEGIN:VTIMEZONE
TZID:America/Denver
BEGIN:STANDARD
TZNAME:MST
DTSTART:20301103T020000
TZOFFSETFROM:-0600
TZOFFSETTO:-0700
RDATE:20311102T020000
END:STANDARD
BEGIN:DAYLIGHT
TZNAME:MDT
DTSTART:20300310T020000
TZOFFSETFROM:-0700
TZOFFSETTO:-0600
RDATE:20310309T020000
RDATE:20320314T020000
END:DAYLIGHT
END:VTIMEZONE
BEGIN:VEVENT
UID:18539433-4204-4f75-a4a4-1c2bfd01d9f3
DTSTAMP:20260423T215903Z
DESCRIPTION:
DTSTART;TZID=America/Denver:20310211T130000
DTEND;TZID=America/Denver:20310211T160000
LOCATION:
SUMMARY:Pinochle
END:VEVENT
END:VCALENDAR
