BEGIN:VCALENDAR
VERSION:2.0
PRODID:-//www.rmdc.net//NONSGML kigkonsult.se iCalcreator 2.30.10//
CALSCALE:GREGORIAN
METHOD:PUBLISH
UID:e5fea36a-3249-45e3-9df4-cabec6f5b919
X-WR-CALDESC:Join us for a gentle exercise class!
X-WR-RELCALID:7174d8e52dbd40b25007d54cbd3e060c
X-WR-TIMEZONE:America/Denver
BEGIN:VTIMEZONE
TZID:America/Denver
BEGIN:STANDARD
TZNAME:MST
DTSTART:20301103T020000
TZOFFSETFROM:-0600
TZOFFSETTO:-0700
RDATE:20311102T020000
END:STANDARD
BEGIN:DAYLIGHT
TZNAME:MDT
DTSTART:20300310T020000
TZOFFSETFROM:-0700
TZOFFSETTO:-0600
RDATE:20310309T020000
RDATE:20320314T020000
END:DAYLIGHT
END:VTIMEZONE
BEGIN:VEVENT
UID:fe43bc3a-1e47-41c1-82e8-9b81a6443f7b
DTSTAMP:20260423T215929Z
DESCRIPTION:Join us for a gentle exercise class!
DTSTART;TZID=America/Denver:20310212T103000
DTEND;TZID=America/Denver:20310212T110000
LOCATION:200 South Cruse\, Helena\, MT 59601 US
SUMMARY:Chi Gong
END:VEVENT
END:VCALENDAR
