BEGIN:VCALENDAR
VERSION:2.0
PRODID:-//www.rmdc.net//NONSGML kigkonsult.se iCalcreator 2.30.10//
CALSCALE:GREGORIAN
METHOD:PUBLISH
UID:d9b41ea3-0f30-4e77-bda0-1f2ca002943c
X-WR-CALDESC:
X-WR-RELCALID:3181b698ba4f7a54a927e07db305f0e7
X-WR-TIMEZONE:America/Denver
BEGIN:VTIMEZONE
TZID:America/Denver
BEGIN:STANDARD
TZNAME:MST
DTSTART:20301103T020000
TZOFFSETFROM:-0600
TZOFFSETTO:-0700
RDATE:20311102T020000
END:STANDARD
BEGIN:DAYLIGHT
TZNAME:MDT
DTSTART:20300310T020000
TZOFFSETFROM:-0700
TZOFFSETTO:-0600
RDATE:20310309T020000
RDATE:20320314T020000
END:DAYLIGHT
END:VTIMEZONE
BEGIN:VEVENT
UID:32d1a70f-de4b-4f6d-9c90-ef12344fc973
DTSTAMP:20260423T215824Z
DESCRIPTION:
DTSTART;TZID=America/Denver:20310223T130000
DTEND;TZID=America/Denver:20310223T160000
LOCATION:
SUMMARY:Pinochle
END:VEVENT
END:VCALENDAR
