BEGIN:VCALENDAR
VERSION:2.0
PRODID:-//www.rmdc.net//NONSGML kigkonsult.se iCalcreator 2.30.10//
CALSCALE:GREGORIAN
METHOD:PUBLISH
UID:71a37b0a-9f62-4f09-9703-ae9b2238cb30
X-WR-CALDESC:
X-WR-RELCALID:87a007949373fedce00d42b385e57431
X-WR-TIMEZONE:America/Denver
BEGIN:VTIMEZONE
TZID:America/Denver
BEGIN:STANDARD
TZNAME:MST
DTSTART:20301103T020000
TZOFFSETFROM:-0600
TZOFFSETTO:-0700
RDATE:20311102T020000
END:STANDARD
BEGIN:DAYLIGHT
TZNAME:MDT
DTSTART:20300310T020000
TZOFFSETFROM:-0700
TZOFFSETTO:-0600
RDATE:20310309T020000
RDATE:20320314T020000
END:DAYLIGHT
END:VTIMEZONE
BEGIN:VEVENT
UID:a6d8a311-eb6b-4caf-a2f6-eaf496d16940
DTSTAMP:20260423T215928Z
DESCRIPTION:
DTSTART;TZID=America/Denver:20310225T130000
DTEND;TZID=America/Denver:20310225T160000
LOCATION:
SUMMARY:Pinochle
END:VEVENT
END:VCALENDAR
