BEGIN:VCALENDAR
VERSION:2.0
PRODID:-//www.rmdc.net//NONSGML kigkonsult.se iCalcreator 2.30.10//
CALSCALE:GREGORIAN
METHOD:PUBLISH
UID:239d67ff-2375-4d3c-8dec-0367f793ea75
X-WR-CALDESC:Join us for a gentle exercise class!
X-WR-RELCALID:b1b788f9623bc775263825c585137fd3
X-WR-TIMEZONE:America/Denver
BEGIN:VTIMEZONE
TZID:America/Denver
BEGIN:STANDARD
TZNAME:MST
DTSTART:20301103T020000
TZOFFSETFROM:-0600
TZOFFSETTO:-0700
RDATE:20311102T020000
END:STANDARD
BEGIN:DAYLIGHT
TZNAME:MDT
DTSTART:20300310T020000
TZOFFSETFROM:-0700
TZOFFSETTO:-0600
RDATE:20310309T020000
RDATE:20320314T020000
END:DAYLIGHT
END:VTIMEZONE
BEGIN:VEVENT
UID:83e72ebf-69f8-48dc-a292-80f966e26ecd
DTSTAMP:20260423T232239Z
DESCRIPTION:Join us for a gentle exercise class!
DTSTART;TZID=America/Denver:20310305T103000
DTEND;TZID=America/Denver:20310305T110000
LOCATION:200 South Cruse\, Helena\, MT 59601 US
SUMMARY:Chi Gong
END:VEVENT
END:VCALENDAR
