BEGIN:VCALENDAR
VERSION:2.0
PRODID:-//www.rmdc.net//NONSGML kigkonsult.se iCalcreator 2.30.10//
CALSCALE:GREGORIAN
METHOD:PUBLISH
UID:bd49537a-8fbf-4b1a-a643-c01d4073b07e
X-WR-CALDESC:
X-WR-RELCALID:905c2b17f477eaf91020f0dc2ad4dbea
X-WR-TIMEZONE:America/Denver
BEGIN:VTIMEZONE
TZID:America/Denver
BEGIN:STANDARD
TZNAME:MST
DTSTART:20301103T020000
TZOFFSETFROM:-0600
TZOFFSETTO:-0700
RDATE:20311102T020000
END:STANDARD
BEGIN:DAYLIGHT
TZNAME:MDT
DTSTART:20300310T020000
TZOFFSETFROM:-0700
TZOFFSETTO:-0600
RDATE:20310309T020000
RDATE:20320314T020000
END:DAYLIGHT
END:VTIMEZONE
BEGIN:VEVENT
UID:1388704b-37e5-4b13-9e9a-7313bd393d59
DTSTAMP:20260423T232323Z
DESCRIPTION:
DTSTART;TZID=America/Denver:20310309T130000
DTEND;TZID=America/Denver:20310309T160000
LOCATION:
SUMMARY:Pinochle
END:VEVENT
END:VCALENDAR
