BEGIN:VCALENDAR
VERSION:2.0
PRODID:-//www.rmdc.net//NONSGML kigkonsult.se iCalcreator 2.30.10//
CALSCALE:GREGORIAN
METHOD:PUBLISH
UID:544e06a6-1e2c-44eb-8f8f-a6e25dc7a395
X-WR-CALDESC:Join us for a gentle exercise class!
X-WR-RELCALID:921851a562622de54ac67c0771d914b8
X-WR-TIMEZONE:America/Denver
BEGIN:VTIMEZONE
TZID:America/Denver
BEGIN:STANDARD
TZNAME:MST
DTSTART:20301103T020000
TZOFFSETFROM:-0600
TZOFFSETTO:-0700
RDATE:20311102T020000
END:STANDARD
BEGIN:DAYLIGHT
TZNAME:MDT
DTSTART:20310309T020000
TZOFFSETFROM:-0700
TZOFFSETTO:-0600
RDATE:20320314T020000
END:DAYLIGHT
END:VTIMEZONE
BEGIN:VEVENT
UID:60da7a3b-cd88-42d5-8345-cb4bcdcafa99
DTSTAMP:20260423T232324Z
DESCRIPTION:Join us for a gentle exercise class!
DTSTART;TZID=America/Denver:20310326T103000
DTEND;TZID=America/Denver:20310326T110000
LOCATION:200 South Cruse\, Helena\, MT 59601 US
SUMMARY:Chi Gong
END:VEVENT
END:VCALENDAR
