BEGIN:VCALENDAR
VERSION:2.0
PRODID:-//www.rmdc.net//NONSGML kigkonsult.se iCalcreator 2.30.10//
CALSCALE:GREGORIAN
METHOD:PUBLISH
UID:0f25f6ea-da2b-4d48-81e0-9b2757e22f75
X-WR-CALDESC:
X-WR-RELCALID:6ef6698e7b5aad4c786558aa3c43b522
X-WR-TIMEZONE:America/Denver
BEGIN:VTIMEZONE
TZID:America/Denver
BEGIN:STANDARD
TZNAME:MST
DTSTART:20301103T020000
TZOFFSETFROM:-0600
TZOFFSETTO:-0700
RDATE:20311102T020000
END:STANDARD
BEGIN:DAYLIGHT
TZNAME:MDT
DTSTART:20310309T020000
TZOFFSETFROM:-0700
TZOFFSETTO:-0600
RDATE:20320314T020000
END:DAYLIGHT
END:VTIMEZONE
BEGIN:VEVENT
UID:f08b6039-b1c5-4199-9a24-d5fcf897f565
DTSTAMP:20260423T232239Z
DESCRIPTION:
DTSTART;TZID=America/Denver:20310326T130000
DTEND;TZID=America/Denver:20310326T150000
LOCATION:Dining Room
SUMMARY:Bingo
END:VEVENT
END:VCALENDAR
