BEGIN:VCALENDAR
VERSION:2.0
PRODID:-//www.rmdc.net//NONSGML kigkonsult.se iCalcreator 2.30.10//
CALSCALE:GREGORIAN
METHOD:PUBLISH
UID:64ab32d7-de0b-4f2f-9c3f-36b709031d58
X-WR-CALDESC:
X-WR-RELCALID:599ec6bba5c74a5decf41809f86963ab
X-WR-TIMEZONE:America/Denver
BEGIN:VTIMEZONE
TZID:America/Denver
BEGIN:STANDARD
TZNAME:MST
DTSTART:20301103T020000
TZOFFSETFROM:-0600
TZOFFSETTO:-0700
RDATE:20311102T020000
END:STANDARD
BEGIN:DAYLIGHT
TZNAME:MDT
DTSTART:20310309T020000
TZOFFSETFROM:-0700
TZOFFSETTO:-0600
RDATE:20320314T020000
END:DAYLIGHT
END:VTIMEZONE
BEGIN:VEVENT
UID:654ce000-26ba-42ce-99d4-a74b6ec8d5db
DTSTAMP:20260424T003835Z
DESCRIPTION:
DTSTART;TZID=America/Denver:20310406T130000
DTEND;TZID=America/Denver:20310406T160000
LOCATION:
SUMMARY:Pinochle
END:VEVENT
END:VCALENDAR
