BEGIN:VCALENDAR
VERSION:2.0
PRODID:-//www.rmdc.net//NONSGML kigkonsult.se iCalcreator 2.30.10//
CALSCALE:GREGORIAN
METHOD:PUBLISH
UID:c7c27d0a-ab55-4167-8ac6-f04b84ce94ee
X-WR-CALDESC:
X-WR-RELCALID:8c1a2e2a861ad73475286c6de7261840
X-WR-TIMEZONE:America/Denver
BEGIN:VTIMEZONE
TZID:America/Denver
BEGIN:STANDARD
TZNAME:MST
DTSTART:20301103T020000
TZOFFSETFROM:-0600
TZOFFSETTO:-0700
RDATE:20311102T020000
END:STANDARD
BEGIN:DAYLIGHT
TZNAME:MDT
DTSTART:20310309T020000
TZOFFSETFROM:-0700
TZOFFSETTO:-0600
RDATE:20320314T020000
END:DAYLIGHT
END:VTIMEZONE
BEGIN:VEVENT
UID:78568551-85e2-4a84-8b5d-61baba199912
DTSTAMP:20260424T005207Z
DESCRIPTION:
DTSTART;TZID=America/Denver:20310409T120000
DTEND;TZID=America/Denver:20310409T133000
LOCATION:Parlor
SUMMARY:Hand and Foot Card Game
END:VEVENT
END:VCALENDAR
