BEGIN:VCALENDAR
VERSION:2.0
PRODID:-//www.rmdc.net//NONSGML kigkonsult.se iCalcreator 2.30.10//
CALSCALE:GREGORIAN
METHOD:PUBLISH
UID:47a47a53-2108-45ec-b89d-c6f3fdc5e78e
X-WR-CALDESC:
X-WR-RELCALID:a3620420f437ed5a8aa8ef1ce88115ce
X-WR-TIMEZONE:America/Denver
BEGIN:VTIMEZONE
TZID:America/Denver
BEGIN:STANDARD
TZNAME:MST
DTSTART:20301103T020000
TZOFFSETFROM:-0600
TZOFFSETTO:-0700
RDATE:20311102T020000
END:STANDARD
BEGIN:DAYLIGHT
TZNAME:MDT
DTSTART:20310309T020000
TZOFFSETFROM:-0700
TZOFFSETTO:-0600
RDATE:20320314T020000
END:DAYLIGHT
END:VTIMEZONE
BEGIN:VEVENT
UID:97d250cf-4623-4080-9b9d-df5473294b3e
DTSTAMP:20260424T021944Z
DESCRIPTION:
DTSTART;TZID=America/Denver:20310504T130000
DTEND;TZID=America/Denver:20310504T160000
LOCATION:
SUMMARY:Pinochle
END:VEVENT
END:VCALENDAR
