BEGIN:VCALENDAR
VERSION:2.0
PRODID:-//www.rmdc.net//NONSGML kigkonsult.se iCalcreator 2.30.10//
CALSCALE:GREGORIAN
METHOD:PUBLISH
UID:c46d787e-0cbe-46d3-813c-d90b2cbc9dd4
X-WR-CALDESC:
X-WR-RELCALID:dda420ab15c76c1f3851fe82f5babc6a
X-WR-TIMEZONE:America/Denver
BEGIN:VTIMEZONE
TZID:America/Denver
BEGIN:STANDARD
TZNAME:MST
DTSTART:20301103T020000
TZOFFSETFROM:-0600
TZOFFSETTO:-0700
RDATE:20311102T020000
END:STANDARD
BEGIN:DAYLIGHT
TZNAME:MDT
DTSTART:20310309T020000
TZOFFSETFROM:-0700
TZOFFSETTO:-0600
RDATE:20320314T020000
END:DAYLIGHT
END:VTIMEZONE
BEGIN:VEVENT
UID:c0b9f1c0-76a2-49e2-b569-6cd88e13c237
DTSTAMP:20260424T021934Z
DESCRIPTION:
DTSTART;TZID=America/Denver:20310507T130000
DTEND;TZID=America/Denver:20310507T150000
LOCATION:Dining Room
SUMMARY:Bingo
END:VEVENT
END:VCALENDAR
