BEGIN:VCALENDAR
VERSION:2.0
PRODID:-//www.rmdc.net//NONSGML kigkonsult.se iCalcreator 2.30.10//
CALSCALE:GREGORIAN
METHOD:PUBLISH
UID:89044398-0aee-4146-bf49-417c52ebd563
X-WR-CALDESC:Join us for the Arts & Craft Class on the fourth Wednesday of 
 each month\, starting on January 28\, at the Helen Senior Center Dance Flo
 or (200 S Cruse Ave). The class is FREE\, and all supplies are included!
X-WR-RELCALID:dbcafda39ca1c0c486f04a12769127f5
X-WR-TIMEZONE:America/Denver
BEGIN:VTIMEZONE
TZID:America/Denver
BEGIN:STANDARD
TZNAME:MST
DTSTART:20301103T020000
TZOFFSETFROM:-0600
TZOFFSETTO:-0700
RDATE:20311102T020000
RDATE:20321107T020000
END:STANDARD
BEGIN:DAYLIGHT
TZNAME:MDT
DTSTART:20310309T020000
TZOFFSETFROM:-0700
TZOFFSETTO:-0600
RDATE:20320314T020000
END:DAYLIGHT
END:VTIMEZONE
BEGIN:VEVENT
UID:86644388-a818-4583-8fc3-96c1b5e7ce12
DTSTAMP:20260424T021931Z
DESCRIPTION:Join us for the Arts & Craft Class on the fourth Wednesday of e
 ach month\, starting on January 28\, at the Helen Senior Center Dance Floo
 r (200 S Cruse Ave). The class is FREE\, and all supplies are included!
DTSTART;TZID=America/Denver:20310514T093000
DTEND;TZID=America/Denver:20310514T110000
LOCATION:200 South Cruse\, Helena\, AL 59601 US
SUMMARY:Art & Craft Classes
END:VEVENT
END:VCALENDAR
