BEGIN:VCALENDAR
VERSION:2.0
PRODID:-//www.rmdc.net//NONSGML kigkonsult.se iCalcreator 2.30.10//
CALSCALE:GREGORIAN
METHOD:PUBLISH
UID:f62a94b6-bfb8-414c-b4c8-712509c9043e
X-WR-CALDESC:
X-WR-RELCALID:14de162d750d823b376362a2cedc7d13
X-WR-TIMEZONE:America/Denver
BEGIN:VTIMEZONE
TZID:America/Denver
BEGIN:STANDARD
TZNAME:MST
DTSTART:20301103T020000
TZOFFSETFROM:-0600
TZOFFSETTO:-0700
RDATE:20311102T020000
RDATE:20321107T020000
END:STANDARD
BEGIN:DAYLIGHT
TZNAME:MDT
DTSTART:20310309T020000
TZOFFSETFROM:-0700
TZOFFSETTO:-0600
RDATE:20320314T020000
END:DAYLIGHT
END:VTIMEZONE
BEGIN:VEVENT
UID:7ee6835f-a93e-4b05-977d-72628d8af900
DTSTAMP:20260424T021954Z
DESCRIPTION:
DTSTART;TZID=America/Denver:20310527T130000
DTEND;TZID=America/Denver:20310527T160000
LOCATION:
SUMMARY:Pinochle
END:VEVENT
END:VCALENDAR
