BEGIN:VCALENDAR
VERSION:2.0
PRODID:-//www.rmdc.net//NONSGML kigkonsult.se iCalcreator 2.30.10//
CALSCALE:GREGORIAN
METHOD:PUBLISH
UID:264d10a5-e23d-4ae6-89b5-d24a7a721468
X-WR-CALDESC:
X-WR-RELCALID:c8ab85357754e41f227a3ace007abdb4
X-WR-TIMEZONE:America/Denver
BEGIN:VTIMEZONE
TZID:America/Denver
BEGIN:STANDARD
TZNAME:MST
DTSTART:20301103T020000
TZOFFSETFROM:-0600
TZOFFSETTO:-0700
RDATE:20311102T020000
RDATE:20321107T020000
END:STANDARD
BEGIN:DAYLIGHT
TZNAME:MDT
DTSTART:20310309T020000
TZOFFSETFROM:-0700
TZOFFSETTO:-0600
RDATE:20320314T020000
END:DAYLIGHT
END:VTIMEZONE
BEGIN:VEVENT
UID:8c603ec3-9a22-4969-9e0f-fdcc7af3685e
DTSTAMP:20260424T021939Z
DESCRIPTION:
DTSTART;TZID=America/Denver:20310528T110000
DTEND;TZID=America/Denver:20310528T120000
LOCATION:200 South Cruse\, Helena\, MT 59601 US
SUMMARY:Tech Time With Mary
END:VEVENT
END:VCALENDAR
