BEGIN:VCALENDAR
VERSION:2.0
PRODID:-//www.rmdc.net//NONSGML kigkonsult.se iCalcreator 2.30.10//
CALSCALE:GREGORIAN
METHOD:PUBLISH
UID:01634b0e-e6dd-4673-ae21-931b6b5f0229
X-WR-CALDESC:This is a FREE class where you can preserve memories and creat
 e works of art through scrapbooking. This class is open to the public\, an
 d all materials are provided.
X-WR-RELCALID:97ba1964b6d0be3e519cc46a0b052baa
X-WR-TIMEZONE:America/Denver
BEGIN:VTIMEZONE
TZID:America/Denver
BEGIN:STANDARD
TZNAME:MST
DTSTART:20301103T020000
TZOFFSETFROM:-0600
TZOFFSETTO:-0700
RDATE:20311102T020000
RDATE:20321107T020000
END:STANDARD
BEGIN:DAYLIGHT
TZNAME:MDT
DTSTART:20310309T020000
TZOFFSETFROM:-0700
TZOFFSETTO:-0600
RDATE:20320314T020000
END:DAYLIGHT
END:VTIMEZONE
BEGIN:VEVENT
UID:ec91769c-004a-48b0-abb8-c100fc7c6cb9
DTSTAMP:20260424T021954Z
DESCRIPTION:This is a FREE class where you can preserve memories and create
  works of art through scrapbooking. This class is open to the public\, and
  all materials are provided.
DTSTART;TZID=America/Denver:20310529T040000
DTEND;TZID=America/Denver:20310529T040001
LOCATION:200 South Cruse\, Helena\, AL 59601 US
SUMMARY:Scrapbooking with JoJo
END:VEVENT
END:VCALENDAR
