BEGIN:VCALENDAR
VERSION:2.0
PRODID:-//www.rmdc.net//NONSGML kigkonsult.se iCalcreator 2.30.10//
CALSCALE:GREGORIAN
METHOD:PUBLISH
UID:49f4990a-666e-4079-941c-8ccca441465d
X-WR-CALDESC:Join us for a gentle exercise class!
X-WR-RELCALID:709f0ecde37b2c0a69a226bf9755b6f3
X-WR-TIMEZONE:America/Denver
BEGIN:VTIMEZONE
TZID:America/Denver
BEGIN:STANDARD
TZNAME:MST
DTSTART:20301103T020000
TZOFFSETFROM:-0600
TZOFFSETTO:-0700
RDATE:20311102T020000
RDATE:20321107T020000
END:STANDARD
BEGIN:DAYLIGHT
TZNAME:MDT
DTSTART:20310309T020000
TZOFFSETFROM:-0700
TZOFFSETTO:-0600
RDATE:20320314T020000
END:DAYLIGHT
END:VTIMEZONE
BEGIN:VEVENT
UID:6f2290ef-a1ce-4281-88f4-8de1ae4f43d3
DTSTAMP:20260424T033720Z
DESCRIPTION:Join us for a gentle exercise class!
DTSTART;TZID=America/Denver:20310604T103000
DTEND;TZID=America/Denver:20310604T110000
LOCATION:200 South Cruse\, Helena\, MT 59601 US
SUMMARY:Chi Gong
END:VEVENT
END:VCALENDAR
