BEGIN:VCALENDAR
VERSION:2.0
PRODID:-//www.rmdc.net//NONSGML kigkonsult.se iCalcreator 2.30.10//
CALSCALE:GREGORIAN
METHOD:PUBLISH
UID:75ddc1b6-61a3-45b9-b6d8-d8cbaafe2e95
X-WR-CALDESC:
X-WR-RELCALID:dc444bc4aa53e1b22b5595fa6692f54c
X-WR-TIMEZONE:America/Denver
BEGIN:VTIMEZONE
TZID:America/Denver
BEGIN:STANDARD
TZNAME:MST
DTSTART:20301103T020000
TZOFFSETFROM:-0600
TZOFFSETTO:-0700
RDATE:20311102T020000
RDATE:20321107T020000
END:STANDARD
BEGIN:DAYLIGHT
TZNAME:MDT
DTSTART:20310309T020000
TZOFFSETFROM:-0700
TZOFFSETTO:-0600
RDATE:20320314T020000
END:DAYLIGHT
END:VTIMEZONE
BEGIN:VEVENT
UID:9d57e2aa-6928-4f86-8831-bfaa9e20d5d1
DTSTAMP:20260424T033813Z
DESCRIPTION:
DTSTART;TZID=America/Denver:20310629T130000
DTEND;TZID=America/Denver:20310629T160000
LOCATION:
SUMMARY:Pinochle
END:VEVENT
END:VCALENDAR
