BEGIN:VCALENDAR
VERSION:2.0
PRODID:-//www.rmdc.net//NONSGML kigkonsult.se iCalcreator 2.30.10//
CALSCALE:GREGORIAN
METHOD:PUBLISH
UID:a59d6d04-ba96-4687-8fc4-e6682dad68be
X-WR-CALDESC:
X-WR-RELCALID:0f0c27b9b7bbcd14efce6efe46621f4c
X-WR-TIMEZONE:America/Denver
BEGIN:VTIMEZONE
TZID:America/Denver
BEGIN:STANDARD
TZNAME:MST
DTSTART:20301103T020000
TZOFFSETFROM:-0600
TZOFFSETTO:-0700
RDATE:20311102T020000
RDATE:20321107T020000
END:STANDARD
BEGIN:DAYLIGHT
TZNAME:MDT
DTSTART:20310309T020000
TZOFFSETFROM:-0700
TZOFFSETTO:-0600
RDATE:20320314T020000
END:DAYLIGHT
END:VTIMEZONE
BEGIN:VEVENT
UID:fa895271-6007-43ba-977c-a42398ebe949
DTSTAMP:20260424T050139Z
DESCRIPTION:
DTSTART;TZID=America/Denver:20310701T130000
DTEND;TZID=America/Denver:20310701T160000
LOCATION:
SUMMARY:Pinochle
END:VEVENT
END:VCALENDAR
