BEGIN:VCALENDAR
VERSION:2.0
PRODID:-//www.rmdc.net//NONSGML kigkonsult.se iCalcreator 2.30.10//
CALSCALE:GREGORIAN
METHOD:PUBLISH
UID:b903751e-df97-4ce2-99ae-b57f56e16e00
X-WR-CALDESC:Join us for a gentle exercise class!
X-WR-RELCALID:7a4f87a59881597ebc724640fd7601c8
X-WR-TIMEZONE:America/Denver
BEGIN:VTIMEZONE
TZID:America/Denver
BEGIN:STANDARD
TZNAME:MST
DTSTART:20301103T020000
TZOFFSETFROM:-0600
TZOFFSETTO:-0700
RDATE:20311102T020000
RDATE:20321107T020000
END:STANDARD
BEGIN:DAYLIGHT
TZNAME:MDT
DTSTART:20310309T020000
TZOFFSETFROM:-0700
TZOFFSETTO:-0600
RDATE:20320314T020000
END:DAYLIGHT
END:VTIMEZONE
BEGIN:VEVENT
UID:b4741428-493d-418c-b081-06fe225a68b5
DTSTAMP:20260424T050052Z
DESCRIPTION:Join us for a gentle exercise class!
DTSTART;TZID=America/Denver:20310723T103000
DTEND;TZID=America/Denver:20310723T110000
LOCATION:200 South Cruse\, Helena\, MT 59601 US
SUMMARY:Chi Gong
END:VEVENT
END:VCALENDAR
