BEGIN:VCALENDAR
VERSION:2.0
PRODID:-//www.rmdc.net//NONSGML kigkonsult.se iCalcreator 2.30.10//
CALSCALE:GREGORIAN
METHOD:PUBLISH
UID:b9a9a9dc-dfe9-4c80-8503-d3c3ad80143a
X-WR-CALDESC:
X-WR-RELCALID:ed26e5daada92a8a9a46a80a1188a5c0
X-WR-TIMEZONE:America/Denver
BEGIN:VTIMEZONE
TZID:America/Denver
BEGIN:STANDARD
TZNAME:MST
DTSTART:20301103T020000
TZOFFSETFROM:-0600
TZOFFSETTO:-0700
RDATE:20311102T020000
RDATE:20321107T020000
END:STANDARD
BEGIN:DAYLIGHT
TZNAME:MDT
DTSTART:20310309T020000
TZOFFSETFROM:-0700
TZOFFSETTO:-0600
RDATE:20320314T020000
END:DAYLIGHT
END:VTIMEZONE
BEGIN:VEVENT
UID:cfa7e1c3-e1a7-4319-b9b8-8885f27939db
DTSTAMP:20260424T062431Z
DESCRIPTION:
DTSTART;TZID=America/Denver:20310817T130000
DTEND;TZID=America/Denver:20310817T160000
LOCATION:
SUMMARY:Pinochle
END:VEVENT
END:VCALENDAR
